BEGIN:VCALENDAR
VERSION:2.0
PRODID:-//CAIR - ECPv6.15.12.2//NONSGML v1.0//EN
CALSCALE:GREGORIAN
METHOD:PUBLISH
X-ORIGINAL-URL:https://cairweb.ca
X-WR-CALDESC:Événements pour CAIR
REFRESH-INTERVAL;VALUE=DURATION:PT1H
X-Robots-Tag:noindex
X-PUBLISHED-TTL:PT1H
BEGIN:VTIMEZONE
TZID:America/Toronto
BEGIN:DAYLIGHT
TZOFFSETFROM:-0500
TZOFFSETTO:-0400
TZNAME:EDT
DTSTART:20210314T070000
END:DAYLIGHT
BEGIN:STANDARD
TZOFFSETFROM:-0400
TZOFFSETTO:-0500
TZNAME:EST
DTSTART:20211107T060000
END:STANDARD
BEGIN:DAYLIGHT
TZOFFSETFROM:-0500
TZOFFSETTO:-0400
TZNAME:EDT
DTSTART:20220313T070000
END:DAYLIGHT
BEGIN:STANDARD
TZOFFSETFROM:-0400
TZOFFSETTO:-0500
TZNAME:EST
DTSTART:20221106T060000
END:STANDARD
BEGIN:DAYLIGHT
TZOFFSETFROM:-0500
TZOFFSETTO:-0400
TZNAME:EDT
DTSTART:20230312T070000
END:DAYLIGHT
BEGIN:STANDARD
TZOFFSETFROM:-0400
TZOFFSETTO:-0500
TZNAME:EST
DTSTART:20231105T060000
END:STANDARD
END:VTIMEZONE
BEGIN:VEVENT
DTSTART;VALUE=DATE:20220526
DTEND;VALUE=DATE:20220530
DTSTAMP:20260422T013308
CREATED:20210804T134520Z
LAST-MODIFIED:20230301T110648Z
UID:76413-1653562800-1653821999@cairweb.ca
SUMMARY:Congrès Scientifique Annuel - Montréal 2022
DESCRIPTION:Pour obtenir les renseignements sur la Journée des MRT & RN\, visitez la page #MRTRND22.\n\nPour obtenir les renseignements sur la Journée des Résidents & Fellows\, visitez la page #RFD22 page.\n\nTiohtià:ke / Montréal est historiquement connu comme un lieu de rencontre pour les Premières Nations. Nous voulons honorer ces peuples en reconnaissant que notre rencontre aura lieu sur un territoire traditionnel autochtone non cédé. \n\nCongrès Scientifique Annuel (#ASM22) est de retour ! \nPrêt pour la reprise des événements d’apprentissage en personne?  Nous\, à l’Association canadienne pour la radiologie d’intervention\, le sommes sans aucun doute – et nous espérons que vous vous joindrez à nous! \nAprès deux années d’interactions uniquement en ligne\, nous sommes impatients de réunir les professionnels de la radiologie d’intervention à travers le Canada pour des échanges en personne. Le sentiment que procure un auditoire en direct et l’engagement que suscite une salle remplie de RI – ces éléments dynamiques ne peuvent être égalés dans un cadre virtuel. L’esprit de la communauté des RI est également plus fort lorsque nous sommes tous réunis au même endroit. \nAu revoir Zoom et Teams\, bonjour les contacts en personne! \n\nDétails de l’événement\n26-28 Mai\, 2022 \nHotel Bonaventure\, Montréal\, QC \n\nAppli mobile\nGoogle Play \nApple App Store \n\nCrédits CME\nCette activité d’apprentissage en groupe donnera droit à des crédits de section 1 et 3 dans le cadre du programme de maintien du certificat (MOC) du Collège royal des médecins et chirurgiens du Canada. \n\nCredits CAMRT\nCette activité d’apprentissage de groupe s’appliquera aux crédits de catégorie A dans le cadre du Programme d’approbation des crédits d’éducation continue (CECAP) de l’Association canadienne des technologues en radiation médicale (ACTRM). \n\nPublic Cible\nCet événement CME sera d’un grand intérêt pour les Radiologues d’intervention\, les Résidents en Radiologie\, les Fellows en Radiologie d’intervention ainsi que les Technologues et les Infirmières travaillant en Radiologie d’intervention et tout autre fournisseur de soins de santé ayant un intérêt dans la Radiologie d’intervention. \n\nÉvaluation des besoins\nCe programme a été développé en tenant compte des évaluations recueillies lors du congrès annuel du SIR\, du CIRSE et de CAIR. \n\nObjectifs d’apprentissage\nÀ la fin du congrès\, le participant doit être en mesure de \n\nExaminez le diagnostic et la gestion de l’ischémie mésentérique\nRévision des techniques de reconstruction veineuse par un expert mondial\nDiscutez et découvrez l’expérience du diagnostic et du traitement du cancer du point de vue du patient\nExaminer les principes et les techniques d’intervention en traumatologie\nExaminer les approches et les techniques d’intervention en cas de transplantation\nDiscutez des défis et des enseignements tirés du développement de dispositifs et de produits médicaux.\nExaminer les stratégies visant à optimiser le contrôle de la douleur locorégionale.\nDiscuter de la controverse entourant la technologie d’enrobage du paclitaxel et des implications potentielles sur la pratique clinique\nDiscutez de l’élaboration et de la mise en œuvre d’un programme d’AVC IR dans la communauté\nExaminer l’approche technique\, l’hémodynamique et les résultats de l’embolisation de la veine porte.\nExamen de la gestion endovasculaire de l’hypertension portale et de l’utilité du TIPS\, du DIPS et du BRTO.\nPasser en revue les articles scientifiques les plus importants ayant une incidence sur la pratique clinique de la radiologie interventionnelle.\nDiscuter et passer en revue l’approche multidisciplinaire des interventions aortiques et artérielles périphériques avancées.\nExaminer la gestion des endofuites de type II\nExaminer les techniques de guidage avancé pour les EVAR\nExaminer les principes de la radioprotection dans l’angiosuite.\nDiscuter de l’impact de la résidence en IR sur la pratique clinique au Canada.\nExaminer les résultats de la création percutanée et chirurgicale de fistules AV.\nÉchanger des opinions et des expériences sur des cas difficiles par le biais d’ateliers\, de débats et de tables rondes.\n\n\nProgramme\nSessions (en anglais seulement)\nProgramme complet (en anglais seulement) \n\nAssemblée Générale Annuelle 2022\nL’Association canadienne pour la radiologie d’intervention (CAIR) tiendra une assemblée générale annuelle (AGA) en personne pour ses membres en règle le 27 mai 2022 à 15:30 h HNE\, à l’hôtel Bonaventure\, à Montréal\, pendant le Congrès Scientifique Annuel de CAIR. \n\nConférenciers invités \nDr. Afshin Gangi\, MD\, PHD – CIRSE President | University Hospital of Strasbourg | Strasbourg\, France \n \nDr. Afshin Gangi graduated from the Medical School of the University Hospital of Reims (France). After his residency in the University of Strasbourg in radiology\, he specialized in the interventional radiology and obtained his Master of Science in medical biology and PhD in laser physics. He’s Professor of radiology since 2000 in the University Hospital of Strasbourg. He is invited Professor in Kings College of London. \nSince 2007\, Afshin Gangi is Chairman of Radiology and nuclear Medicine in the University Hospital of Strasbourg. He is interventional radiologist\, specialized in oncology\, MSK and spine. He is currently responsible for the department of Interventional Radiology of the University Hospital of Strasbourg. He published over 200 scientific papers\, contributed to 40 books\, and presented more than 470 lectures and scientific papers presentations. \nHe’s member of several societies: CIRSE (Cardiovascular and Interventional Radiological Society of Europe)\, RSNA (Radiological Society of North America)\, ECR (European Congress of Radiology)\, SIR (Society of Interventional Radiology)\, ASSR (American Society of Spine Radiology)\, ARRS (American Roentgen Ray Society)\, SFR (Société Française de Radiologie)\, member of National Academy of Surgery\, elected President of CIRSE and deputy Chairman of ECIO. \n\nDr. Laura Findeiss\, MD – SIR Past-President | Grady Memorial Hospital | Emory University | Atlanta\, Georgia\, USA \n \nDr. Laura Findeiss is currently Chief of Radiology at Grady Memorial Hospital and Professor of Radiology at Emory University. Following receipt of her medical degree at the University of Pittsburgh\, Dr. Findeiss pursued two years of training in General Surgery at the University of Tennessee Medical Center before completing a Diagnostic Radiology Residency at Virginia Mason Medical Center in Seattle\, Washington and\, subsequently\, a Fellowship in Interventional Radiology at the University of Washington. Prior leadership roles include serving as Chief of Interventional Radiology at the University of California\, Irvine and at the University of Utah School of Medicine. She was recruited to the University of Tennessee Medical Center as Chair of the Department of Radiology in 2013. \nDr. Findeiss has been active in numerous institutional and national service roles\, including her position as President of the Society of Interventional Radiology (SIR) 2019-2020. She has also served as a member of the Board of Directors and Chair of the Research Education Committee for the Society of Interventional Radiology Foundation\, and has been active in SIR initiatives related to enhancing clinical practice in interventional radiology as well as in efforts to engage and support students and early career members. She is a Fellow of the Society of Vascular Medicine\, the Society of Interventional Radiology\, and the American Heart Association. \n\nDr. Pascal Chabrot\, SFICV President\, MD\, PHD\, FE- CIRSE \n \nInterventional radiologist (2004) and professor of radiology (2013) in the imaging department of the University Hospital of Clermont-Ferrand\, France (Pr Boyer) after a residency in Clermont and Paris and a fellowship in Montreal (2008-9). In charge of the experimental Cath lab for a research team dedicated to endovascular treatment in oncologic and endovascular IR (pharmacokinetic of cisplatin in TACE in animal model\, echo-endoscopic creation of portosystemic shunt in animal model\, bi-embolization of portal and hepatic vein in an animal model). Leading the interventional unit since 2018 and the radiology department of CHU Montpied since January 2022. \n– Member of the endovascular sub-committee of the European Society of Radiology since 2017\,\n– Member of the endovascular sub-committee of the CIRSE since 2018\,\n– Correspondent for IR in the French College of Radiology Teachers since 2019\,\n– President of the French Society of Cardio-Vascular Imaging since 2020. \nMember of the organization committee of: \n– European School of Interventional Radiology (Vascular Access\, Marseille 2014)\n– European Congress of Interventional Oncology (Nice\, 2015)\n– The French school of embolization since 2014\n– The French school of thrombectomy since 2019 \n\nLes lauréats des CAIR\nLauréat de CAIR est décerné chaque année à une ou plusieurs personnes pour des services distingués et extraordinaires rendus à l’Association canadienne de la radiologie d’intervention et/ou à la discipline de la radiologie d’intervention. \nLes services rendus à la radiologie d’intervention peuvent comprendre l’enseignement\, la recherche fondamentale\, l’investigation clinique\, l’art radiologique et la promotion de la radiologie d’intervention de CAIR et/ou la promotion de la radiologie d’intervention ou de CAIR. La recherche doit être reconnue pour sa qualité et sa cohérence par une publication dans des revues professionnelles reconnues. Les services rendus à CAIR peuvent inclure des contributions exceptionnelles à CAIR\, à d’autres organisations médicales ou à des organismes gouvernementaux. \nLauréat de CAIR peut également être décerné à des personnes qui ont consacré leurs talents passés et présents à l’amélioration de la qualité des soins aux patients par la pratique de la radiologie interventionnelle et/ou qui\, par leurs réalisations exceptionnelles\, contribuent également à assurer l’avenir de ce domaine. \n \n\n\n\n\n\n\n2020 – DR. LINDSAY MACHAN\, MD\, FSIR \nDr. Lindsay Machan is an interventional radiologist at the Vancouver Hospital\, a CIRSE Distinguished Fellow\, SIR Fellow and an Asia Pacific Society of Interventional Radiology Honorary Member.\nIn 2006\, he shared the Manning Innovation Principle Award for the development of the paclitaxel eluting stent. He has co-edited the last three editions of Krishna Kandarpa’s Handbook of Interventional Radiologic Procedures. He frequently presents at M&M conferences. \n \n\n\n\n\n\n\n2021 – DR. GILLES SOULEZ\, MD\, MSC\, FRCPC\, FSIR \nDr. Gilles Soulez MD\, MSc\, FSIR is a vascular and interventional radiologist at CHUM\, University of Montréal. He completed his radiology residency in France at University Paris V in 1988 and completed a 2-year fellowship combined with a certification of the French College\nof Interventional Radiology. He completed a MSc in clinical research and epidemiology at University of Montreal in 2000 and obtained a clinical researcher scholarship from the FRQ-S from the Junior I to National Scientist award. \nHe is currently appointed as a Professor of Radiology at University of Montreal and was chairman of the Department of Radiology\, Radiation-Oncology and Nuclear Medicine from 2012 to 2020. His research is dedicated to the advancement of vascular and interventional radiology in the field of aortic\, peripheral arterial diseases and management of vascular anomalies. He is funded by the Canadian Fund of\nInnovation\, Canadian Institute of Health Research\, Natural Science and Engineering Research Council\, Fonds de la Recherché en Santé du Québec (FRQ-S). He has published 210 peer-reviewed papers during his career (H index 45).\nHe has authored and co-authored nine patents and is very active in n technological transfer with leading companies in this field\, such as\, Siemens Medical and Cook Medical. \n\nFormateurs participants\nComité de planification \nDr. Alessandra Cassano-Bailey \nDr. Véronique Caty \nDr. Gerald Gahide \nDr. Tara Graham \nConférenciers \nDr.  Mathieu Beland \nDr.  Ali Bessissow \nDr.  Simon Bradette \nDre. Tatiana Cabral \nDr.  Alessandra Cassano-Bailey \nDr.  Veronique Caty \nDr.  Cori Caughlin \nDr.  Pascal Chabrot \nDr.  Daniel Corsili \nDr.  Nevin de Korompay \nDr. Geneviève Digby \nDr.  Laura Findeiss \nDr.  Gerald Gahide \nDr.  Afshin Gangi \nDr.  Rafik Ghali \nDr.  Marie-France Giroux \nDr.  Anastasia Hadjivassiliou \nDr.  Adnan Hadziomerovic \nDr.  Jeff Jaskolka \nDr.  Martin Juneau \nDr. John Kachura \nDr.  Darren Klass \nDr.  Srinivasan Krishnamurthy \nDr. Fabian Max Laage Gaupp \nDr.  Catherine Lalonde \nDr.  Lindsay Machan \nDr.  Alex Menard \nDr.  Mireille Methot \nDr.  Amol Mujoomdar \nDr.  Eding Mvilongo \nDr.  Maxime Noel Lamy \nDr.  Stefan Przybojewski \nDr.  Dheeraj Rajan \nDr.  Martin Simons \nDr.  Nicolette Sinclair \nDr.  Melissa Skanes \nDr.  Gilles Soulez \nDr.  Kong Teng Tan \nDr.  Eric Therasse \nDr.  Togas Tulandi \nDr.  David Valenti \nDr.  Jason Wong \nDr.  Joel Woodley Cook \n\nRéservation des chambres d’hotel\nHotel Bonaventure Montréal\n900 Rue De La Gauchetière O\, Montréal\, QC H5A 1E4 \nUn prix préférentiel est accordé aux participants du congrès. Vous recevrez un lien privé sur votre reçu pour réserver votre chambre\, dès que vous vous serez inscrit.\nTarif chambre simple: $269/night (+ tx)\nTarif chambre double: $269/night (+tx) \n\nSanté et la Sécurité\nMesures de santé et de sécurité – Mars 2022 \nHôtel \nGouvernement du Quebec \n\nInscription\nMembres Réguliers\nMédecin – $840\nFellow/Résident/infirmier(ère)/Technologue – $546 – coupon code: ASM35\nStudent – $0 – coupon code: ASM100 \nNon-Membres Réguliers\nMédecin – $1230\nFellow/Résident/infirmier(ère)/Technologue – $615 – coupon code: ASM50\nÉtudiant – $0 – coupon code: ASM100 \nPolitique d’annulation\n30 jours avant le Congrès annuel : 50$ (+tx)\n7 jours avant le Congrès annuel : 50% du montant de votre inscription (+tx)\nMoins de 7 jours avant l’événement: aucun remboursement \n\nCongrès Scientifique Annuel 2022 – Montréal \n• Fellow/Résident/infirmier(ère)/Technologuet MEMBRES\, veuillez utiliser le code de coupon: ASM35 à la page du panier.\n• Fellow/Résident/infirmier(ère)/Technologue NON-MEMBERS\, veuillez utiliser le code de coupone: ASM50 à la page du panier.\n• Students\, veuillez utiliser le code de coupon: ASM100 à la page du panier.\n• Le prix de votre affiliation sera calculé lors du passage à la caisse. Le statut et le niveau de votre adhésion seront vérifiés. \n$1\,230.00 Le prix initial était : $1\,230.00.$1\,110.00Le prix actuel est : $1\,110.00.Ajouter au panier	\n			\n \nVoir votre panier ici. \n\nPAS ENCORE MEMBRE DE CAIR ? \nL’adhésion à l’Association canadienne de la radiologie d’intervention (CAIR) vous donne l’avantage de faire partie de la seule association nationale représentant les professionnels de la radiologie d’intervention\, qui vous offre les services\, les activités et les outils dont vous avez besoin pour rester informé et à la pointe de votre profession . Pour devenir membre\, faites-en la demande ici. \n\n\nAVIS DE COMMUNICATION \n\nEn vous inscrivant à cet événement\, vous acceptez de recevoir des communications de CAIR\, y compris\, mais sans s’y limiter\, les mises à jour générales de l’événement\, le contenu éducatif fourni par les partenaires\, les détails des sessions commanditées avant l’événement\, les événements futurs organisés par ou en partenariat avec CAIR. \n\nCONSENTEMENT À LA LISTE DES DÉLÉGUÉS \n\nUne liste des noms et des lieux des participants sera mise à la disposition de toutes les personnes inscrites et des représentants de l’industrie. \n\nTrousse d’information et de services aux exposants\nDocument complet disponible (anglais seulement) ici. \n\nNos Commanditaires\nLes programmes de CAIR sont élaborés dans une optique d’intégrité scientifique\, d’objectivité et d’équilibre grâce à des subventions sans restriction et à visée éducative de nos entreprises partenaires.
URL:https://cairweb.ca/fr/event/reunion-scientifique-annuelle-2022-montreal/
LOCATION:Hotel Bonaventure Montreal\, 900 Rue De La Gauchetière O\, Montreal\, Quebec\, H5A 1E4\, Canada
CATEGORIES:CAIRFR
ATTACH;FMTTYPE=image/jpeg:https://cairweb.ca/wp-content/uploads/2018/03/cair-home.jpg
END:VEVENT
END:VCALENDAR