BEGIN:VCALENDAR
VERSION:2.0
PRODID:-//CAIR - ECPv6.15.12.2//NONSGML v1.0//EN
CALSCALE:GREGORIAN
METHOD:PUBLISH
X-ORIGINAL-URL:https://cairweb.ca
X-WR-CALDESC:Events for CAIR
REFRESH-INTERVAL;VALUE=DURATION:PT1H
X-Robots-Tag:noindex
X-PUBLISHED-TTL:PT1H
BEGIN:VTIMEZONE
TZID:America/Toronto
BEGIN:DAYLIGHT
TZOFFSETFROM:-0500
TZOFFSETTO:-0400
TZNAME:EDT
DTSTART:20220313T070000
END:DAYLIGHT
BEGIN:STANDARD
TZOFFSETFROM:-0400
TZOFFSETTO:-0500
TZNAME:EST
DTSTART:20221106T060000
END:STANDARD
BEGIN:DAYLIGHT
TZOFFSETFROM:-0500
TZOFFSETTO:-0400
TZNAME:EDT
DTSTART:20230312T070000
END:DAYLIGHT
BEGIN:STANDARD
TZOFFSETFROM:-0400
TZOFFSETTO:-0500
TZNAME:EST
DTSTART:20231105T060000
END:STANDARD
BEGIN:DAYLIGHT
TZOFFSETFROM:-0500
TZOFFSETTO:-0400
TZNAME:EDT
DTSTART:20240310T070000
END:DAYLIGHT
BEGIN:STANDARD
TZOFFSETFROM:-0400
TZOFFSETTO:-0500
TZNAME:EST
DTSTART:20241103T060000
END:STANDARD
END:VTIMEZONE
BEGIN:VEVENT
DTSTART;TZID=America/Toronto:20230526T180000
DTEND;TZID=America/Toronto:20230526T200000
DTSTAMP:20260422T125623
CREATED:20230425T201542Z
LAST-MODIFIED:20230517T120620Z
UID:85344-1685124000-1685131200@cairweb.ca
SUMMARY:Women in IR networking cocktail
DESCRIPTION: 
URL:https://cairweb.ca/en/event/women-in-ir-networking-cocktail/
LOCATION:Hilton Hotel Quebec City\, 1100 Bd René-Lévesque E\, Quebec City\, QC\, G1R 4P3\, Canada
CATEGORIES:RFS,CAIR,WIR
END:VEVENT
END:VCALENDAR