BEGIN:VCALENDAR
VERSION:2.0
PRODID:-//CAIR - ECPv6.15.12.2//NONSGML v1.0//EN
CALSCALE:GREGORIAN
METHOD:PUBLISH
X-WR-CALNAME:CAIR
X-ORIGINAL-URL:https://cairweb.ca
X-WR-CALDESC:Events for CAIR
REFRESH-INTERVAL;VALUE=DURATION:PT1H
X-Robots-Tag:noindex
X-PUBLISHED-TTL:PT1H
BEGIN:VTIMEZONE
TZID:America/Toronto
BEGIN:DAYLIGHT
TZOFFSETFROM:-0500
TZOFFSETTO:-0400
TZNAME:EDT
DTSTART:20250309T070000
END:DAYLIGHT
BEGIN:STANDARD
TZOFFSETFROM:-0400
TZOFFSETTO:-0500
TZNAME:EST
DTSTART:20251102T060000
END:STANDARD
BEGIN:DAYLIGHT
TZOFFSETFROM:-0500
TZOFFSETTO:-0400
TZNAME:EDT
DTSTART:20260308T070000
END:DAYLIGHT
BEGIN:STANDARD
TZOFFSETFROM:-0400
TZOFFSETTO:-0500
TZNAME:EST
DTSTART:20261101T060000
END:STANDARD
BEGIN:DAYLIGHT
TZOFFSETFROM:-0500
TZOFFSETTO:-0400
TZNAME:EDT
DTSTART:20270314T070000
END:DAYLIGHT
BEGIN:STANDARD
TZOFFSETFROM:-0400
TZOFFSETTO:-0500
TZNAME:EST
DTSTART:20271107T060000
END:STANDARD
END:VTIMEZONE
BEGIN:VEVENT
DTSTART;TZID=America/Toronto:20260221T170000
DTEND;TZID=America/Toronto:20260221T190000
DTSTAMP:20260420T210837
CREATED:20260129T004834Z
LAST-MODIFIED:20260213T215654Z
UID:98319-1771693200-1771700400@cairweb.ca
SUMMARY:Discover IR 2026
DESCRIPTION:Mentorship and Networking Event\, organized by the CAIR Residents\, Fellow and Student Section (RFS) \nThe CAIR RFS is hosting a mentorship and networking cocktail event for fellows\, residents\, and medical students. Learn about the exciting career of Interventional Radiology\, connect with local IR staff and fellows\, meet CAIR board members\, and discover what the field of interventional radiology has to offer. \n\nWhat is interventional radiology?\nWhat do interventional radiologists do?\nPathway to becoming an interventional radiologist\nWho is the Canadian Association for Interventional Radiology (CAIR) and the Residents\, Fellows\, and Students (RFS) section?\nHow to get involved\n\nRSVP by February 20\, 2026. \nDue to limited capacity\, please register early. \nQuestions: rfschair@cairweb.ca \n  \n\n\nRegistration\nCAIR MEMBERS \nEvent: PREMIUM ACCESS/NO COST\n \nThis event is offered at NO COST for CAIR members. Please note that you need to log into your account first and select “Register for Events” link  (left side menu) in the member dashboard to get the member rate. Additional information will follow and you will receive an email with the meeting registration details. \n  \nNOT A MEMBER YET? \nCAIR membership has many benefits\, to join – apply here. \n  \nDiscover IR 2026 Registration \n$0.00Add to cart	\n			\n \n  \nView your cart here. \n\n  \n\nNOTICE OF COMMUNICATION\nBy registering for this event\, you agree to receive communications from CAIR\, including but not limited to: overall event updates\, educational content provided by sponsors\, pre-series sponsored session details\, and future events hosted by or in partnership with CAIR.
URL:https://cairweb.ca/en/event/discover-ir-2026/
LOCATION:Omni King Edward Toronto\, 37 King St E\, Toronto\, Ontario\, M5C 1E9\, Canada
CATEGORIES:RFS,CAIR
ATTACH;FMTTYPE=image/png:https://cairweb.ca/wp-content/uploads/2026/01/DIR-Promo-website-EN.png
END:VEVENT
END:VCALENDAR