BEGIN:VCALENDAR
VERSION:2.0
PRODID:-//CAIR - ECPv6.15.12.2//NONSGML v1.0//EN
CALSCALE:GREGORIAN
METHOD:PUBLISH
X-ORIGINAL-URL:https://cairweb.ca
X-WR-CALDESC:Events for CAIR
REFRESH-INTERVAL;VALUE=DURATION:PT1H
X-Robots-Tag:noindex
X-PUBLISHED-TTL:PT1H
BEGIN:VTIMEZONE
TZID:America/Toronto
BEGIN:DAYLIGHT
TZOFFSETFROM:-0500
TZOFFSETTO:-0400
TZNAME:EDT
DTSTART:20210314T070000
END:DAYLIGHT
BEGIN:STANDARD
TZOFFSETFROM:-0400
TZOFFSETTO:-0500
TZNAME:EST
DTSTART:20211107T060000
END:STANDARD
BEGIN:DAYLIGHT
TZOFFSETFROM:-0500
TZOFFSETTO:-0400
TZNAME:EDT
DTSTART:20220313T070000
END:DAYLIGHT
BEGIN:STANDARD
TZOFFSETFROM:-0400
TZOFFSETTO:-0500
TZNAME:EST
DTSTART:20221106T060000
END:STANDARD
BEGIN:DAYLIGHT
TZOFFSETFROM:-0500
TZOFFSETTO:-0400
TZNAME:EDT
DTSTART:20230312T070000
END:DAYLIGHT
BEGIN:STANDARD
TZOFFSETFROM:-0400
TZOFFSETTO:-0500
TZNAME:EST
DTSTART:20231105T060000
END:STANDARD
END:VTIMEZONE
BEGIN:VEVENT
DTSTART;VALUE=DATE:20220525
DTEND;VALUE=DATE:20220527
DTSTAMP:20260421T223609
CREATED:20211025T141714Z
LAST-MODIFIED:20220727T155718Z
UID:78298-1653476400-1653562799@cairweb.ca
SUMMARY:MRT&RN Day - Montreal 2022
DESCRIPTION:For the Annual Scientific Meeting info\, visit the #ASM22 page.\n\nFor Fellows and Residents Day info\, visit the #FRD22 page.\n\nTiohtià:ke / Montreal is historically known as a meeting place for First Peoples. We wish to honour these peoples by recognizing that our meeting will take place on unceded traditional Indigenous territory. \n\nMeeting Details\nDate and time: May 25\, 2022 \nLocation: Hotel Bonaventure\, Montreal\, QC \n\nMeeting Learning Objectives\nA day dedicated to MRTs and RNs to start the 2022 CAIR’s Annual Scientific Meeting\, followed by training and lectures that will incorporate many facets of Interventional Radiology.  Experience hands on practice with tumor ablation\, PE thrombectomy\, embolization and feeding tubes.  Become involved in the WWEIRD (What Would Every IR Do) discussion about pellets\, things that get stuck and rare anatomy. We have recruited respected members from our Canadian IR community and illustrious guest speakers. \nThe MRT and RN portion of the program will be exploring various procedures\, interventions and improvement of workflow efficiencies\, from IR technologist and nurse perspectives. \n\nCAMRT Credits\nThis group learning activity will apply for Category A Credits within the continuing Education Credit Approval Program (CECAP) of the Canadian Association of Medical Radiation Technologists (CAMRT). \n\nAgenda\nSessions \nProgram pdf  \n\nPlanning Committee\nPatti Dech\nLeigh Douglas\nFrance Rouleau \n\nGuest Speakers\nDr. Alexandre Cengarle Samak\, MD\nDr. Maxime Noël-Lamy\, MD FRCPC \n\nHotel Information\nHotel Bonaventure Montréal\n900 Rue De La Gauchetière O\, Montréal\, QC H5A 1E4 \nA preferential rate has been negotiated for the attendees. You will receive a private link (on your receipt) to book your room when you will register.\nSingle room rate: $269/night (+ tx)\nDouble room rate: $269/night (+tx) \n\nHealth and Safety\nHealth & Safety Considerations – March 2022 \nHotel \nGovernment of Quebec \n\nRegistration\nCAIR MEMBERS: \nEvent: $90 +tax\n \nPlease note that you need to log into your account first and select “Register for Events” link  (left side menu) in the member dashboard to get the member rate. You will receive an email with the meeting registration details. \n\nCAIR NON-MEMBERS: \nEvent: $126.00 +tax\n \nTo register\, add item to cart and then proceed to check out. Follow instructions to fill out personal and payment information. A confirmation email will be sent once the payment is processed. You will receive an email with the meeting registration details. \n\nNOT A MEMBER YET? \nCAIR membership has many benefits\, to join – apply here. \n\nMRT and RN Day – Montreal 2022 Event \n$126.00Add to cart	\n			\n \nView your cart here. \nNOTICE OF COMMUNICATION \nBy registering for this event\, you agree to receive communications from CAIR\, including but not limited to: overall event updates\, educational content provided by sponsors\, sponsored session details\, future events hosted by or in partnership with CAIR. \n\nCorporate Partners & Sponsors\nCAIR programs are made possible through unrestricted education grants from our corporate partners and sponsors and are planned to achieve scientific integrity\, objectivity\, and balance. \n\n\n\n\n\n\n\n\n\n  \n 
URL:https://cairweb.ca/en/event/mrtrn-day-montreal-2022/
LOCATION:Hotel Bonaventure Montreal\, 900 Rue De La Gauchetière O\, Montreal\, Quebec\, H5A 1E4\, Canada
CATEGORIES:CAIR
ATTACH;FMTTYPE=image/jpeg:https://cairweb.ca/wp-content/uploads/2018/03/cair-home.jpg
END:VEVENT
BEGIN:VEVENT
DTSTART;VALUE=DATE:20220525
DTEND;VALUE=DATE:20220527
DTSTAMP:20260421T223609
CREATED:20211025T142938Z
LAST-MODIFIED:20220511T150855Z
UID:78308-1653476400-1653562799@cairweb.ca
SUMMARY:Residents and Fellows Day - Montreal 2022
DESCRIPTION:For the MRT &RN Day info\, visit the #MRTRND22 page.\n\nFor the Annual Scientific Meeting info\, visit the #ASM22 page.\n\nTiohtià:ke / Montreal is historically known as a meeting place for First Peoples. We wish to honour these peoples by recognizing that our meeting will take place on unceded traditional Indigenous territory. \n\nCall for Submissions\nWho can submit a case : \n\nResidents and fellows enrolled in a radiology program across Canada and who are members in good standing with CAIR.\nSuccessful applicants must bring a PowerPoint to present\, a draft of which must be submitted at the time of application.\nUnsuccessful submissions may be considered for inclusion in the Cases of the Month circulated by the CAIR\, along with the cases selected for presentation at the Residents & Fellows Day.\n\nSubmission criteria: \n\nA letter of intent explaining why you would like to attend.\nA short\, updated CV (maximum 2 pages) that must include contact info (email address and phone number).\nA letter of recommendation signed by your program director.\nA draft presentation including relevant sample images (jpg/png\, max 10MB). The draft presentation must be anonymous\, your name and your institution should not appear.\nThe submission needs to be complete to be considered.\n\nComplimentary registration\, and a bursary for transportation and accommodation will be provided to 20 residents and fellows selected to present the best cases. \nSend your complete submission at cairservice@cairweb.ca \, deadline: March 31st\, 2022! \n\nMeeting Details\nDate and time: May 25\, 2022 \nLocation: Hotel Bonaventure\, Montreal\, QC \n\nFaculty\nPeter Collingwood \nJohn Kachura \nMelissa Skanes \n\nAgenda\nSessions/Schedule. \n\nHotel Information\nHotel Bonaventure Montréal\n900 Rue De La Gauchetière O\, Montréal\, QC H5A 1E4 \nA preferential rate has been negotiated for the attendees. You will receive a private link (on your receipt) to book your room when you will register.\nSingle room rate: $269/night (+ tx)\nDouble room rate: $269/night (+tx) \n\nHealth and Safety\nHealth & Safety Considerations – March 2022 \nHotel \nGovernment of Quebec \n\nRegistration – by invitation only\n\nCorporate Partner\nCAIR programs are made possible through unrestricted education grants from our corporate partners and sponsors and are planned to achieve scientific integrity\, objectivity\, and balance. \n \n 
URL:https://cairweb.ca/en/event/fellows-and-residents-day-montreal-2022/
LOCATION:Hotel Bonaventure Montreal\, 900 Rue De La Gauchetière O\, Montreal\, Quebec\, H5A 1E4\, Canada
CATEGORIES:CAIR
ATTACH;FMTTYPE=image/jpeg:https://cairweb.ca/wp-content/uploads/2018/03/cair-home.jpg
END:VEVENT
END:VCALENDAR